BEGIN:VCALENDAR
VERSION:2.0
PRODID:-//mWEB//NONSGML mWEB//NB
URL:https://www.auremisjonshus.no/kalender/ics
X-WR-CALNAME:Aure Misjonshus
REFRESH-INTERVAL;VALUE=DURATION:PT6H
X-PUBLISHED-TTL:PT6H    
CALSCALE:GREGORIAN
BEGIN:VEVENT
UID:auremisjonshus.no-494
DTSTAMP:20260424T081212Z
DTSTART:20190122T230000Z
DTEND:20190123T225900Z
URL:https://www.auremisjonshus.no/kalender/2019/01/23/oving-aure-misjonskor/494/
CREATED:20190109T124238Z
LAST-MODIFIED:20190114T142234Z
SUMMARY:Øving Aure Misjonskor
DESCRIPTION:\n\nhttps://www.auremisjonshus.no/kalender/2019/01/23/oving-aure-misjonskor/494/
X-MICROSOFT-CDO-ALLDAYEVENT:TRUE
END:VEVENT

END:VCALENDAR