BEGIN:VCALENDAR
VERSION:2.0
PRODID:-//mWEB//NONSGML mWEB//NB
URL:https://www.auremisjonshus.no/kalender/ics
X-WR-CALNAME:Aure Misjonshus
REFRESH-INTERVAL;VALUE=DURATION:PT6H
X-PUBLISHED-TTL:PT6H    
CALSCALE:GREGORIAN
BEGIN:VEVENT
UID:auremisjonshus.no-419
DTSTAMP:20260424T095214Z
DTSTART:20181229T150000Z
DTEND:20181229T163000Z
URL:https://www.auremisjonshus.no/kalender/2018/12/29/juletrefest/419/
CREATED:20180729T203920Z
LAST-MODIFIED:20180729T203920Z
SUMMARY:Juletrefest
DESCRIPTION:\n\nhttps://www.auremisjonshus.no/kalender/2018/12/29/juletrefest/419/
END:VEVENT

END:VCALENDAR