BEGIN:VCALENDAR
VERSION:2.0
PRODID:-//mWEB//NONSGML mWEB//NB
URL:https://www.auremisjonshus.no/kalender/ics
X-WR-CALNAME:Aure Misjonshus
REFRESH-INTERVAL;VALUE=DURATION:PT6H
X-PUBLISHED-TTL:PT6H    
CALSCALE:GREGORIAN
BEGIN:VEVENT
UID:auremisjonshus.no-447
DTSTAMP:20260424T095956Z
DTSTART:20181216T230000Z
DTEND:20181217T225900Z
URL:https://www.auremisjonshus.no/kalender/2018/12/17/konfirmantsamling/447/
CREATED:20181025T190814Z
LAST-MODIFIED:20181025T190814Z
SUMMARY:Konfirmantsamling
DESCRIPTION:\n\nhttps://www.auremisjonshus.no/kalender/2018/12/17/konfirmantsamling/447/
X-MICROSOFT-CDO-ALLDAYEVENT:TRUE
END:VEVENT

END:VCALENDAR