BEGIN:VCALENDAR
VERSION:2.0
PRODID:-//mWEB//NONSGML mWEB//NB
URL:https://www.auremisjonshus.no/kalender/ics
X-WR-CALNAME:Aure Misjonshus
REFRESH-INTERVAL;VALUE=DURATION:PT6H
X-PUBLISHED-TTL:PT6H    
CALSCALE:GREGORIAN
BEGIN:VEVENT
UID:auremisjonshus.no-412
DTSTAMP:20260424T095213Z
DTSTART:20181212T230000Z
DTEND:20181213T225900Z
URL:https://www.auremisjonshus.no/kalender/2018/12/13/eldres-hyggestund/412/
CREATED:20180729T203534Z
LAST-MODIFIED:20180729T203534Z
SUMMARY:Eldres hyggestund
DESCRIPTION:\n\nhttps://www.auremisjonshus.no/kalender/2018/12/13/eldres-hyggestund/412/
X-MICROSOFT-CDO-ALLDAYEVENT:TRUE
END:VEVENT

END:VCALENDAR