BEGIN:VCALENDAR
VERSION:2.0
PRODID:-//mWEB//NONSGML mWEB//NB
URL:https://www.auremisjonshus.no/kalender/ics
X-WR-CALNAME:Aure Misjonshus
REFRESH-INTERVAL;VALUE=DURATION:PT6H
X-PUBLISHED-TTL:PT6H    
CALSCALE:GREGORIAN
BEGIN:VEVENT
UID:auremisjonshus.no-432
DTSTAMP:20260424T100119Z
DTSTART:20181211T163000Z
DTEND:20181211T173000Z
URL:https://www.auremisjonshus.no/kalender/2018/12/11/orneklubben/432/
CREATED:20180827T194935Z
LAST-MODIFIED:20180827T194935Z
SUMMARY:Ørneklubben
DESCRIPTION:For barn mellom 4 og 9 år. Vi møtast på misjonshuset kvar tredje tysdag frå klokka 17.30 - 18.30. Kvar samling blir avslutta med kveldsmat.\n\nhttps://www.auremisjonshus.no/kalender/2018/12/11/orneklubben/432/
END:VEVENT

END:VCALENDAR