BEGIN:VCALENDAR
VERSION:2.0
PRODID:-//mWEB//NONSGML mWEB//NB
URL:https://www.auremisjonshus.no/kalender/ics
X-WR-CALNAME:Aure Misjonshus
REFRESH-INTERVAL;VALUE=DURATION:PT6H
X-PUBLISHED-TTL:PT6H    
CALSCALE:GREGORIAN
BEGIN:VEVENT
UID:auremisjonshus.no-418
DTSTAMP:20260424T095634Z
DTSTART:20181202T150000Z
DTEND:20181202T163000Z
URL:https://www.auremisjonshus.no/kalender/2018/12/02/sondagsmote/418/
CREATED:20180729T203845Z
LAST-MODIFIED:20180729T203845Z
SUMMARY:Søndagsmøte
DESCRIPTION:Ved Normisjon\n\nhttps://www.auremisjonshus.no/kalender/2018/12/02/sondagsmote/418/
END:VEVENT

END:VCALENDAR