BEGIN:VCALENDAR
VERSION:2.0
PRODID:-//mWEB//NONSGML mWEB//NB
URL:https://www.auremisjonshus.no/kalender/ics
X-WR-CALNAME:Aure Misjonshus
REFRESH-INTERVAL;VALUE=DURATION:PT6H
X-PUBLISHED-TTL:PT6H    
CALSCALE:GREGORIAN
BEGIN:VEVENT
UID:auremisjonshus.no-408
DTSTAMP:20260424T113205Z
DTSTART:20181130T180000Z
DTEND:20181130T193000Z
URL:https://www.auremisjonshus.no/kalender/2018/11/30/tweens/408/
CREATED:20180729T203418Z
LAST-MODIFIED:20180729T203418Z
SUMMARY:Tweens
DESCRIPTION:Klubb for deg som går i 5. - 7. trinn.\n\nhttps://www.auremisjonshus.no/kalender/2018/11/30/tweens/408/
END:VEVENT

END:VCALENDAR