BEGIN:VCALENDAR
VERSION:2.0
PRODID:-//mWEB//NONSGML mWEB//NB
URL:https://www.auremisjonshus.no/kalender/ics
X-WR-CALNAME:Aure Misjonshus
REFRESH-INTERVAL;VALUE=DURATION:PT6H
X-PUBLISHED-TTL:PT6H    
CALSCALE:GREGORIAN
BEGIN:VEVENT
UID:auremisjonshus.no-440
DTSTAMP:20260424T112217Z
DTSTART:20181127T230000Z
DTEND:20181128T225900Z
URL:https://www.auremisjonshus.no/kalender/2018/11/28/oving-aure-misjonskor/440/
CREATED:20181008T213454Z
LAST-MODIFIED:20181008T213454Z
SUMMARY:Øving Aure Misjonskor
DESCRIPTION:\n\nhttps://www.auremisjonshus.no/kalender/2018/11/28/oving-aure-misjonskor/440/
X-MICROSOFT-CDO-ALLDAYEVENT:TRUE
END:VEVENT

END:VCALENDAR