BEGIN:VCALENDAR
VERSION:2.0
PRODID:-//mWEB//NONSGML mWEB//NB
URL:https://www.auremisjonshus.no/kalender/ics
X-WR-CALNAME:Aure Misjonshus
REFRESH-INTERVAL;VALUE=DURATION:PT6H
X-PUBLISHED-TTL:PT6H    
CALSCALE:GREGORIAN
BEGIN:VEVENT
UID:auremisjonshus.no-446
DTSTAMP:20260424T112720Z
DTSTART:20181119T180000Z
DTEND:20181119T200000Z
URL:https://www.auremisjonshus.no/kalender/2018/11/19/konfirmantsamling/446/
CREATED:20181025T190754Z
LAST-MODIFIED:20181025T190754Z
SUMMARY:Konfirmantsamling
DESCRIPTION:\n\nhttps://www.auremisjonshus.no/kalender/2018/11/19/konfirmantsamling/446/
END:VEVENT

END:VCALENDAR