BEGIN:VCALENDAR
VERSION:2.0
PRODID:-//mWEB//NONSGML mWEB//NB
URL:https://www.auremisjonshus.no/kalender/ics
X-WR-CALNAME:Aure Misjonshus
REFRESH-INTERVAL;VALUE=DURATION:PT6H
X-PUBLISHED-TTL:PT6H    
CALSCALE:GREGORIAN
BEGIN:VEVENT
UID:auremisjonshus.no-417
DTSTAMP:20260424T113956Z
DTSTART:20181117T100000Z
DTEND:20181117T113000Z
URL:https://www.auremisjonshus.no/kalender/2018/11/17/julemesse/417/
CREATED:20180729T203815Z
LAST-MODIFIED:20181111T210527Z
SUMMARY:Julemesse
DESCRIPTION:Kl. 11.00 Messa opnar\n\nKl. 12.00 Familiemøte. Ørneklubben er med og syng\n\nKI. 16.00 Misionsmøte med allsidig program og mykie innhald.\n\nAure Misionskor syng. Liv Anne og Asbjørn Innerdal\n\ndeler Guds ord med oss - og opplevingarfrå 150-årsjubi...\n\nhttps://www.auremisjonshus.no/kalender/2018/11/17/julemesse/417/
END:VEVENT

END:VCALENDAR