BEGIN:VCALENDAR
VERSION:2.0
PRODID:-//mWEB//NONSGML mWEB//NB
URL:https://www.auremisjonshus.no/kalender/ics
X-WR-CALNAME:Aure Misjonshus
REFRESH-INTERVAL;VALUE=DURATION:PT6H
X-PUBLISHED-TTL:PT6H    
CALSCALE:GREGORIAN
BEGIN:VEVENT
UID:auremisjonshus.no-443
DTSTAMP:20260424T112753Z
DTSTART:20181109T183000Z
DTEND:20181109T200000Z
URL:https://www.auremisjonshus.no/kalender/2018/11/09/skardsgrenda-bedehus-misjonskveld-med-arnfinn-royland-nlm/443/
CREATED:20181009T090243Z
LAST-MODIFIED:20181009T090243Z
SUMMARY:Skardsgrenda bedehus: Misjonskveld med Arnfinn Røyland\, NLM
DESCRIPTION:Kollekt\, kaffe.\n\nAlle velkomne!\n\nhttps://www.auremisjonshus.no/kalender/2018/11/09/skardsgrenda-bedehus-misjonskveld-med-arnfinn-royland-nlm/443/
END:VEVENT

END:VCALENDAR