BEGIN:VCALENDAR
VERSION:2.0
PRODID:-//mWEB//NONSGML mWEB//NB
URL:https://www.auremisjonshus.no/kalender/ics
X-WR-CALNAME:Aure Misjonshus
REFRESH-INTERVAL;VALUE=DURATION:PT6H
X-PUBLISHED-TTL:PT6H    
CALSCALE:GREGORIAN
BEGIN:VEVENT
UID:auremisjonshus.no-411
DTSTAMP:20260424T114331Z
DTSTART:20181107T230000Z
DTEND:20181108T225900Z
URL:https://www.auremisjonshus.no/kalender/2018/11/08/eldres-hyggestund/411/
CREATED:20180729T203520Z
LAST-MODIFIED:20180729T203520Z
SUMMARY:Eldres hyggestund
DESCRIPTION:\n\nhttps://www.auremisjonshus.no/kalender/2018/11/08/eldres-hyggestund/411/
X-MICROSOFT-CDO-ALLDAYEVENT:TRUE
END:VEVENT

END:VCALENDAR