BEGIN:VCALENDAR
VERSION:2.0
PRODID:-//mWEB//NONSGML mWEB//NB
URL:https://www.auremisjonshus.no/kalender/ics
X-WR-CALNAME:Aure Misjonshus
REFRESH-INTERVAL;VALUE=DURATION:PT6H
X-PUBLISHED-TTL:PT6H    
CALSCALE:GREGORIAN
BEGIN:VEVENT
UID:auremisjonshus.no-439
DTSTAMP:20260424T114050Z
DTSTART:20181106T230000Z
DTEND:20181107T225900Z
URL:https://www.auremisjonshus.no/kalender/2018/11/07/oving-aure-misjonskor/439/
CREATED:20181008T213443Z
LAST-MODIFIED:20181008T213443Z
SUMMARY:Øving Aure Misjonskor
DESCRIPTION:\n\nhttps://www.auremisjonshus.no/kalender/2018/11/07/oving-aure-misjonskor/439/
X-MICROSOFT-CDO-ALLDAYEVENT:TRUE
END:VEVENT

END:VCALENDAR