BEGIN:VCALENDAR
VERSION:2.0
PRODID:-//mWEB//NONSGML mWEB//NB
URL:https://www.auremisjonshus.no/kalender/ics
X-WR-CALNAME:Aure Misjonshus
REFRESH-INTERVAL;VALUE=DURATION:PT6H
X-PUBLISHED-TTL:PT6H    
CALSCALE:GREGORIAN
BEGIN:VEVENT
UID:auremisjonshus.no-437
DTSTAMP:20260424T114250Z
DTSTART:20181103T230000Z
DTEND:20181104T225900Z
URL:https://www.auremisjonshus.no/kalender/2018/11/04/utleige/437/
CREATED:20181003T192453Z
LAST-MODIFIED:20181003T192453Z
SUMMARY:Utleige
DESCRIPTION:\n\nhttps://www.auremisjonshus.no/kalender/2018/11/04/utleige/437/
X-MICROSOFT-CDO-ALLDAYEVENT:TRUE
END:VEVENT

END:VCALENDAR