BEGIN:VCALENDAR
VERSION:2.0
PRODID:-//mWEB//NONSGML mWEB//NB
URL:https://www.auremisjonshus.no/kalender/ics
X-WR-CALNAME:Aure Misjonshus
REFRESH-INTERVAL;VALUE=DURATION:PT6H
X-PUBLISHED-TTL:PT6H    
CALSCALE:GREGORIAN
BEGIN:VEVENT
UID:auremisjonshus.no-444
DTSTAMP:20260424T114250Z
DTSTART:20181102T230000Z
DTEND:20181103T225900Z
URL:https://www.auremisjonshus.no/kalender/2018/11/03/utleige-aure-il/444/
CREATED:20181025T190630Z
LAST-MODIFIED:20181025T190630Z
SUMMARY:Utleige Aure IL
DESCRIPTION:\n\nhttps://www.auremisjonshus.no/kalender/2018/11/03/utleige-aure-il/444/
X-MICROSOFT-CDO-ALLDAYEVENT:TRUE
END:VEVENT

END:VCALENDAR