BEGIN:VCALENDAR
VERSION:2.0
PRODID:-//mWEB//NONSGML mWEB//NB
URL:https://www.auremisjonshus.no/kalender/ics
X-WR-CALNAME:Aure Misjonshus
REFRESH-INTERVAL;VALUE=DURATION:PT6H
X-PUBLISHED-TTL:PT6H    
CALSCALE:GREGORIAN
BEGIN:VEVENT
UID:auremisjonshus.no-445
DTSTAMP:20260424T132944Z
DTSTART:20181029T180000Z
DTEND:20181029T200000Z
URL:https://www.auremisjonshus.no/kalender/2018/10/29/konfirmantsamling/445/
CREATED:20181025T190735Z
LAST-MODIFIED:20181025T190735Z
SUMMARY:Konfirmantsamling
DESCRIPTION:\n\nhttps://www.auremisjonshus.no/kalender/2018/10/29/konfirmantsamling/445/
END:VEVENT

END:VCALENDAR