BEGIN:VCALENDAR
VERSION:2.0
PRODID:-//mWEB//NONSGML mWEB//NB
URL:https://www.auremisjonshus.no/kalender/ics
X-WR-CALNAME:Aure Misjonshus
REFRESH-INTERVAL;VALUE=DURATION:PT6H
X-PUBLISHED-TTL:PT6H    
CALSCALE:GREGORIAN
BEGIN:VEVENT
UID:auremisjonshus.no-416
DTSTAMP:20260424T132123Z
DTSTART:20181027T220000Z
DTEND:20181028T225900Z
URL:https://www.auremisjonshus.no/kalender/2018/10/28/bibelhelg/416/
CREATED:20180729T203746Z
LAST-MODIFIED:20180729T203746Z
SUMMARY:Bibelhelg
DESCRIPTION:Ved Norsk Luthersk Misjonssamband (NLM)\n\nhttps://www.auremisjonshus.no/kalender/2018/10/28/bibelhelg/416/
X-MICROSOFT-CDO-ALLDAYEVENT:TRUE
END:VEVENT

END:VCALENDAR