BEGIN:VCALENDAR
VERSION:2.0
PRODID:-//mWEB//NONSGML mWEB//NB
URL:https://www.auremisjonshus.no/kalender/ics
X-WR-CALNAME:Aure Misjonshus
REFRESH-INTERVAL;VALUE=DURATION:PT6H
X-PUBLISHED-TTL:PT6H    
CALSCALE:GREGORIAN
BEGIN:VEVENT
UID:auremisjonshus.no-415
DTSTAMP:20260424T130346Z
DTSTART:20181026T220000Z
DTEND:20181027T215900Z
URL:https://www.auremisjonshus.no/kalender/2018/10/27/bibelhelg/415/
CREATED:20180729T203738Z
LAST-MODIFIED:20180729T203738Z
SUMMARY:Bibelhelg
DESCRIPTION:Ved Norsk Luthersk Misjonssamband (NLM)\n\nhttps://www.auremisjonshus.no/kalender/2018/10/27/bibelhelg/415/
X-MICROSOFT-CDO-ALLDAYEVENT:TRUE
END:VEVENT

END:VCALENDAR