BEGIN:VCALENDAR
VERSION:2.0
PRODID:-//mWEB//NONSGML mWEB//NB
URL:https://www.auremisjonshus.no/kalender/ics
X-WR-CALNAME:Aure Misjonshus
REFRESH-INTERVAL;VALUE=DURATION:PT6H
X-PUBLISHED-TTL:PT6H    
CALSCALE:GREGORIAN
BEGIN:VEVENT
UID:auremisjonshus.no-407
DTSTAMP:20260424T133119Z
DTSTART:20181026T170000Z
DTEND:20181026T190000Z
URL:https://www.auremisjonshus.no/kalender/2018/10/26/tweens/407/
CREATED:20180729T203404Z
LAST-MODIFIED:20181003T192414Z
SUMMARY:Tweens
DESCRIPTION:Klubb for deg som går i 5. - 7. trinn.\n\nhttps://www.auremisjonshus.no/kalender/2018/10/26/tweens/407/
END:VEVENT

END:VCALENDAR