BEGIN:VCALENDAR
VERSION:2.0
PRODID:-//mWEB//NONSGML mWEB//NB
URL:https://www.auremisjonshus.no/kalender/ics
X-WR-CALNAME:Aure Misjonshus
REFRESH-INTERVAL;VALUE=DURATION:PT6H
X-PUBLISHED-TTL:PT6H    
CALSCALE:GREGORIAN
BEGIN:VEVENT
UID:auremisjonshus.no-429
DTSTAMP:20260424T132709Z
DTSTART:20181016T153000Z
DTEND:20181016T163000Z
URL:https://www.auremisjonshus.no/kalender/2018/10/16/orneklubben/429/
CREATED:20180827T194859Z
LAST-MODIFIED:20181008T213413Z
SUMMARY:Ørneklubben
DESCRIPTION:For barn mellom 4 og 9 år. Vi møtast på misjonshuset kvar tredje tysdag frå klokka 17.30 - 18.30. Kvar samling blir avslutta med kveldsmat.\n\nhttps://www.auremisjonshus.no/kalender/2018/10/16/orneklubben/429/
END:VEVENT

END:VCALENDAR