BEGIN:VCALENDAR
VERSION:2.0
PRODID:-//mWEB//NONSGML mWEB//NB
URL:https://www.auremisjonshus.no/kalender/ics
X-WR-CALNAME:Aure Misjonshus
REFRESH-INTERVAL;VALUE=DURATION:PT6H
X-PUBLISHED-TTL:PT6H    
CALSCALE:GREGORIAN
BEGIN:VEVENT
UID:auremisjonshus.no-413
DTSTAMP:20260424T133112Z
DTSTART:20181007T140000Z
DTEND:20181007T153000Z
URL:https://www.auremisjonshus.no/kalender/2018/10/07/sondagsmote/413/
CREATED:20180729T203636Z
LAST-MODIFIED:20180923T072758Z
SUMMARY:Søndagsmøte
DESCRIPTION:Ved Indremisjonsforbundet\n\nhttps://www.auremisjonshus.no/kalender/2018/10/07/sondagsmote/413/
END:VEVENT

END:VCALENDAR