BEGIN:VCALENDAR
VERSION:2.0
PRODID:-//mWEB//NONSGML mWEB//NB
URL:https://www.auremisjonshus.no/kalender/ics
X-WR-CALNAME:Aure Misjonshus
REFRESH-INTERVAL;VALUE=DURATION:PT6H
X-PUBLISHED-TTL:PT6H    
CALSCALE:GREGORIAN
BEGIN:VEVENT
UID:auremisjonshus.no-436
DTSTAMP:20260424T132601Z
DTSTART:20181004T173000Z
DTEND:20181004T190000Z
URL:https://www.auremisjonshus.no/kalender/2018/10/04/mote-israelsmisjonen-med-svein-volden/436/
CREATED:20180926T162850Z
LAST-MODIFIED:20180927T193934Z
SUMMARY:Møte Israelsmisjonen\, med Svein Volden
DESCRIPTION:\n\nhttps://www.auremisjonshus.no/kalender/2018/10/04/mote-israelsmisjonen-med-svein-volden/436/
END:VEVENT

END:VCALENDAR