BEGIN:VCALENDAR
VERSION:2.0
PRODID:-//mWEB//NONSGML mWEB//NB
URL:https://www.auremisjonshus.no/kalender/ics
X-WR-CALNAME:Aure Misjonshus
REFRESH-INTERVAL;VALUE=DURATION:PT6H
X-PUBLISHED-TTL:PT6H    
CALSCALE:GREGORIAN
BEGIN:VEVENT
UID:auremisjonshus.no-423
DTSTAMP:20260424T152825Z
DTSTART:20180930T060000Z
DTEND:20180930T130000Z
URL:https://www.auremisjonshus.no/kalender/2018/09/30/ovingshelg-aure-misjonskor/423/
CREATED:20180802T150703Z
LAST-MODIFIED:20180802T150703Z
SUMMARY:Øvingshelg Aure Misjonskor
DESCRIPTION:\n\nhttps://www.auremisjonshus.no/kalender/2018/09/30/ovingshelg-aure-misjonskor/423/
END:VEVENT

END:VCALENDAR