BEGIN:VCALENDAR
VERSION:2.0
PRODID:-//mWEB//NONSGML mWEB//NB
URL:https://www.auremisjonshus.no/kalender/ics
X-WR-CALNAME:Aure Misjonshus
REFRESH-INTERVAL;VALUE=DURATION:PT6H
X-PUBLISHED-TTL:PT6H    
CALSCALE:GREGORIAN
BEGIN:VEVENT
UID:auremisjonshus.no-422
DTSTAMP:20260424T152825Z
DTSTART:20180928T220000Z
DTEND:20180929T215900Z
URL:https://www.auremisjonshus.no/kalender/2018/09/29/ovingshelg-aure-misjonskor/422/
CREATED:20180802T150617Z
LAST-MODIFIED:20180802T150617Z
SUMMARY:Øvingshelg Aure Misjonskor
DESCRIPTION:\n\nhttps://www.auremisjonshus.no/kalender/2018/09/29/ovingshelg-aure-misjonskor/422/
X-MICROSOFT-CDO-ALLDAYEVENT:TRUE
END:VEVENT

END:VCALENDAR