BEGIN:VCALENDAR
VERSION:2.0
PRODID:-//mWEB//NONSGML mWEB//NB
URL:https://www.auremisjonshus.no/kalender/ics
X-WR-CALNAME:Aure Misjonshus
REFRESH-INTERVAL;VALUE=DURATION:PT6H
X-PUBLISHED-TTL:PT6H    
CALSCALE:GREGORIAN
BEGIN:VEVENT
UID:auremisjonshus.no-421
DTSTAMP:20260424T152330Z
DTSTART:20180927T220000Z
DTEND:20180928T215900Z
URL:https://www.auremisjonshus.no/kalender/2018/09/28/ovingshelg-aure-misjonskor/421/
CREATED:20180802T150550Z
LAST-MODIFIED:20180802T150550Z
SUMMARY:Øvingshelg Aure Misjonskor
DESCRIPTION:\n\nhttps://www.auremisjonshus.no/kalender/2018/09/28/ovingshelg-aure-misjonskor/421/
X-MICROSOFT-CDO-ALLDAYEVENT:TRUE
END:VEVENT

END:VCALENDAR