BEGIN:VCALENDAR
VERSION:2.0
PRODID:-//mWEB//NONSGML mWEB//NB
URL:https://www.auremisjonshus.no/kalender/ics
X-WR-CALNAME:Aure Misjonshus
REFRESH-INTERVAL;VALUE=DURATION:PT6H
X-PUBLISHED-TTL:PT6H    
CALSCALE:GREGORIAN
BEGIN:VEVENT
UID:auremisjonshus.no-435
DTSTAMP:20260424T153217Z
DTSTART:20180926T220000Z
DTEND:20180927T215900Z
URL:https://www.auremisjonshus.no/kalender/2018/09/27/privat-utleige/435/
CREATED:20180926T162752Z
LAST-MODIFIED:20180926T162752Z
SUMMARY:Privat utleige
DESCRIPTION:\n\nhttps://www.auremisjonshus.no/kalender/2018/09/27/privat-utleige/435/
X-MICROSOFT-CDO-ALLDAYEVENT:TRUE
END:VEVENT

END:VCALENDAR