BEGIN:VCALENDAR
VERSION:2.0
PRODID:-//mWEB//NONSGML mWEB//NB
URL:https://www.auremisjonshus.no/kalender/ics
X-WR-CALNAME:Aure Misjonshus
REFRESH-INTERVAL;VALUE=DURATION:PT6H
X-PUBLISHED-TTL:PT6H    
CALSCALE:GREGORIAN
BEGIN:VEVENT
UID:auremisjonshus.no-406
DTSTAMP:20260424T151156Z
DTSTART:20180921T170000Z
DTEND:20180921T183000Z
URL:https://www.auremisjonshus.no/kalender/2018/09/21/tweens/406/
CREATED:20180729T203351Z
LAST-MODIFIED:20180729T203351Z
SUMMARY:Tweens
DESCRIPTION:Klubb for deg som går i 5. - 7. trinn.\n\nhttps://www.auremisjonshus.no/kalender/2018/09/21/tweens/406/
END:VEVENT

END:VCALENDAR