BEGIN:VCALENDAR
VERSION:2.0
PRODID:-//mWEB//NONSGML mWEB//NB
URL:https://www.auremisjonshus.no/kalender/ics
X-WR-CALNAME:Aure Misjonshus
REFRESH-INTERVAL;VALUE=DURATION:PT6H
X-PUBLISHED-TTL:PT6H    
CALSCALE:GREGORIAN
BEGIN:VEVENT
UID:auremisjonshus.no-404
DTSTAMP:20260424T153027Z
DTSTART:20180918T220000Z
DTEND:20180919T215900Z
URL:https://www.auremisjonshus.no/kalender/2018/09/19/oving-aure-misjonskor/404/
CREATED:20180729T203146Z
LAST-MODIFIED:20180729T203146Z
SUMMARY:Øving Aure Misjonskor
DESCRIPTION:\n\nhttps://www.auremisjonshus.no/kalender/2018/09/19/oving-aure-misjonskor/404/
X-MICROSOFT-CDO-ALLDAYEVENT:TRUE
END:VEVENT

END:VCALENDAR