BEGIN:VCALENDAR
VERSION:2.0
PRODID:-//mWEB//NONSGML mWEB//NB
URL:https://www.auremisjonshus.no/kalender/ics
X-WR-CALNAME:Aure Misjonshus
REFRESH-INTERVAL;VALUE=DURATION:PT6H
X-PUBLISHED-TTL:PT6H    
CALSCALE:GREGORIAN
BEGIN:VEVENT
UID:auremisjonshus.no-409
DTSTAMP:20260424T153314Z
DTSTART:20180912T220000Z
DTEND:20180913T215900Z
URL:https://www.auremisjonshus.no/kalender/2018/09/13/eldres-hyggestund/409/
CREATED:20180729T203443Z
LAST-MODIFIED:20180729T203443Z
SUMMARY:Eldres hyggestund
DESCRIPTION:\n\nhttps://www.auremisjonshus.no/kalender/2018/09/13/eldres-hyggestund/409/
X-MICROSOFT-CDO-ALLDAYEVENT:TRUE
END:VEVENT

END:VCALENDAR