BEGIN:VCALENDAR
VERSION:2.0
PRODID:-//mWEB//NONSGML mWEB//NB
URL:https://www.auremisjonshus.no/kalender/ics
X-WR-CALNAME:Aure Misjonshus
REFRESH-INTERVAL;VALUE=DURATION:PT6H
X-PUBLISHED-TTL:PT6H    
CALSCALE:GREGORIAN
BEGIN:VEVENT
UID:auremisjonshus.no-425
DTSTAMP:20260424T154141Z
DTSTART:20180908T173000Z
DTEND:20180908T190000Z
URL:https://www.auremisjonshus.no/kalender/2018/09/08/misjonen-sarepta-hans-bergane/425/
CREATED:20180810T165128Z
LAST-MODIFIED:20180815T195453Z
SUMMARY:Misjonen Sarepta - Hans Bergane
DESCRIPTION:\n\nhttps://www.auremisjonshus.no/kalender/2018/09/08/misjonen-sarepta-hans-bergane/425/
END:VEVENT

END:VCALENDAR