BEGIN:VCALENDAR
VERSION:2.0
PRODID:-//mWEB//NONSGML mWEB//NB
URL:https://www.auremisjonshus.no/kalender/ics
X-WR-CALNAME:Aure Misjonshus
REFRESH-INTERVAL;VALUE=DURATION:PT6H
X-PUBLISHED-TTL:PT6H    
CALSCALE:GREGORIAN
BEGIN:VEVENT
UID:auremisjonshus.no-427
DTSTAMP:20260424T153546Z
DTSTART:20180904T153000Z
DTEND:20180904T163000Z
URL:https://www.auremisjonshus.no/kalender/2018/09/04/orneklubben/427/
CREATED:20180827T194835Z
LAST-MODIFIED:20180827T194835Z
SUMMARY:Ørneklubben
DESCRIPTION:For barn mellom 4 og 9 år. Vi møtast på misjonshuset kvar tredje tysdag frå klokka 17.30 - 18.30. Kvar samling blir avslutta med kveldsmat.\n\nhttps://www.auremisjonshus.no/kalender/2018/09/04/orneklubben/427/
END:VEVENT

END:VCALENDAR