BEGIN:VCALENDAR
VERSION:2.0
PRODID:-//mWEB//NONSGML mWEB//NB
URL:https://www.auremisjonshus.no/kalender/ics
X-WR-CALNAME:Aure Misjonshus
REFRESH-INTERVAL;VALUE=DURATION:PT6H
X-PUBLISHED-TTL:PT6H    
CALSCALE:GREGORIAN
BEGIN:VEVENT
UID:auremisjonshus.no-403
DTSTAMP:20260424T172110Z
DTSTART:20180828T220000Z
DTEND:20180829T215900Z
URL:https://www.auremisjonshus.no/kalender/2018/08/29/oving-aure-misjonskor/403/
CREATED:20180729T203134Z
LAST-MODIFIED:20180729T203134Z
SUMMARY:Øving Aure Misjonskor
DESCRIPTION:\n\nhttps://www.auremisjonshus.no/kalender/2018/08/29/oving-aure-misjonskor/403/
X-MICROSOFT-CDO-ALLDAYEVENT:TRUE
END:VEVENT

END:VCALENDAR