BEGIN:VCALENDAR
VERSION:2.0
PRODID:-//mWEB//NONSGML mWEB//NB
URL:https://www.auremisjonshus.no/kalender/ics
X-WR-CALNAME:Aure Misjonshus
REFRESH-INTERVAL;VALUE=DURATION:PT6H
X-PUBLISHED-TTL:PT6H    
CALSCALE:GREGORIAN
BEGIN:VEVENT
UID:auremisjonshus.no-402
DTSTAMP:20260424T171900Z
DTSTART:20180826T140000Z
DTEND:20180826T153000Z
URL:https://www.auremisjonshus.no/kalender/2018/08/26/opningsfest/402/
CREATED:20180729T203105Z
LAST-MODIFIED:20180729T203105Z
SUMMARY:Opningsfest
DESCRIPTION:\n\nhttps://www.auremisjonshus.no/kalender/2018/08/26/opningsfest/402/
END:VEVENT

END:VCALENDAR