BEGIN:VCALENDAR
VERSION:2.0
PRODID:-//mWEB//NONSGML mWEB//NB
URL:https://www.auremisjonshus.no/kalender/ics
X-WR-CALNAME:Aure Misjonshus
REFRESH-INTERVAL;VALUE=DURATION:PT6H
X-PUBLISHED-TTL:PT6H    
CALSCALE:GREGORIAN
BEGIN:VEVENT
UID:auremisjonshus.no-396
DTSTAMP:20260424T171148Z
DTSTART:20180816T220000Z
DTEND:20180817T215900Z
URL:https://www.auremisjonshus.no/kalender/2018/08/17/aure-il/396/
CREATED:20180315T193434Z
LAST-MODIFIED:20180315T193434Z
SUMMARY:Aure IL
DESCRIPTION:\n\nhttps://www.auremisjonshus.no/kalender/2018/08/17/aure-il/396/
X-MICROSOFT-CDO-ALLDAYEVENT:TRUE
END:VEVENT

END:VCALENDAR