BEGIN:VCALENDAR
VERSION:2.0
PRODID:-//mWEB//NONSGML mWEB//NB
URL:https://www.auremisjonshus.no/kalender/ics
X-WR-CALNAME:Aure Misjonshus
REFRESH-INTERVAL;VALUE=DURATION:PT6H
X-PUBLISHED-TTL:PT6H    
CALSCALE:GREGORIAN
BEGIN:VEVENT
UID:auremisjonshus.no-420
DTSTAMP:20260424T171833Z
DTSTART:20180805T110000Z
DTEND:20180805T123000Z
URL:https://www.auremisjonshus.no/kalender/2018/08/05/bjornholmstemnet/420/
CREATED:20180729T204852Z
LAST-MODIFIED:20180729T204852Z
SUMMARY:Bjørnholmstemnet
DESCRIPTION:Velkomen til årets Bjørnholmstemne.\n \n• Møtet startar klokka 13.\n• Båtskyss frå kaia ved ByggMi xi Aure sentrum klokka 12.30.\n• Jens Kristian Hunnestad og Oddbjørn Saltbones talar og syng.\n• Sal av pølse med brød og hamburger frå grillen etter m...\n\nhttps://www.auremisjonshus.no/kalender/2018/08/05/bjornholmstemnet/420/
END:VEVENT

END:VCALENDAR