BEGIN:VCALENDAR
VERSION:2.0
PRODID:-//mWEB//NONSGML mWEB//NB
URL:https://www.auremisjonshus.no/kalender/ics
X-WR-CALNAME:Aure Misjonshus
REFRESH-INTERVAL;VALUE=DURATION:PT6H
X-PUBLISHED-TTL:PT6H    
CALSCALE:GREGORIAN
BEGIN:VEVENT
UID:auremisjonshus.no-386
DTSTAMP:20260424T171517Z
DTSTART:20180802T220000Z
DTEND:20180803T215900Z
URL:https://www.auremisjonshus.no/kalender/2018/08/03/bu-heime-leir/386/
CREATED:20180209T135404Z
LAST-MODIFIED:20180209T135404Z
SUMMARY:Bu heime-leir
DESCRIPTION:\n\nhttps://www.auremisjonshus.no/kalender/2018/08/03/bu-heime-leir/386/
X-MICROSOFT-CDO-ALLDAYEVENT:TRUE
END:VEVENT

END:VCALENDAR