BEGIN:VCALENDAR
VERSION:2.0
PRODID:-//mWEB//NONSGML mWEB//NB
URL:https://www.auremisjonshus.no/kalender/ics
X-WR-CALNAME:Aure Misjonshus
REFRESH-INTERVAL;VALUE=DURATION:PT6H
X-PUBLISHED-TTL:PT6H    
CALSCALE:GREGORIAN
BEGIN:VEVENT
UID:auremisjonshus.no-363
DTSTAMP:20260424T203835Z
DTSTART:20180617T130000Z
DTEND:20180617T143000Z
URL:https://www.auremisjonshus.no/kalender/2018/06/17/ruth-og-morten-arve-gjerde-skardsoya-hagemote/363/
CREATED:20180108T142648Z
LAST-MODIFIED:20180522T114409Z
SUMMARY:Ruth og Morten Arve Gjerde\, Skardsøya: Hagemøte
DESCRIPTION:Jens Espeland talar.\n\nhttps://www.auremisjonshus.no/kalender/2018/06/17/ruth-og-morten-arve-gjerde-skardsoya-hagemote/363/
END:VEVENT

END:VCALENDAR