BEGIN:VCALENDAR
VERSION:2.0
PRODID:-//mWEB//NONSGML mWEB//NB
URL:https://www.auremisjonshus.no/kalender/ics
X-WR-CALNAME:Aure Misjonshus
REFRESH-INTERVAL;VALUE=DURATION:PT6H
X-PUBLISHED-TTL:PT6H    
CALSCALE:GREGORIAN
BEGIN:VEVENT
UID:auremisjonshus.no-334
DTSTAMP:20260424T203642Z
DTSTART:20180613T220000Z
DTEND:20180614T215900Z
URL:https://www.auremisjonshus.no/kalender/2018/06/14/eldres-hyggestund/334/
CREATED:20171114T104606Z
LAST-MODIFIED:20180110T125409Z
SUMMARY:Eldres hyggestund
DESCRIPTION:\n\nhttps://www.auremisjonshus.no/kalender/2018/06/14/eldres-hyggestund/334/
X-MICROSOFT-CDO-ALLDAYEVENT:TRUE
END:VEVENT

END:VCALENDAR