BEGIN:VCALENDAR
VERSION:2.0
PRODID:-//mWEB//NONSGML mWEB//NB
URL:https://www.auremisjonshus.no/kalender/ics
X-WR-CALNAME:Aure Misjonshus
REFRESH-INTERVAL;VALUE=DURATION:PT6H
X-PUBLISHED-TTL:PT6H    
CALSCALE:GREGORIAN
BEGIN:VEVENT
UID:auremisjonshus.no-349
DTSTAMP:20260424T222530Z
DTSTART:20180530T180000Z
DTEND:20180530T193000Z
URL:https://www.auremisjonshus.no/kalender/2018/05/30/sangmote-med-aure-misjonskor/349/
CREATED:20171210T132317Z
LAST-MODIFIED:20180506T115001Z
SUMMARY:Sangmøte med Aure Misjonskor
DESCRIPTION:\n\nhttps://www.auremisjonshus.no/kalender/2018/05/30/sangmote-med-aure-misjonskor/349/
END:VEVENT

END:VCALENDAR