BEGIN:VCALENDAR
VERSION:2.0
PRODID:-//mWEB//NONSGML mWEB//NB
URL:https://www.auremisjonshus.no/kalender/ics
X-WR-CALNAME:Aure Misjonshus
REFRESH-INTERVAL;VALUE=DURATION:PT6H
X-PUBLISHED-TTL:PT6H    
CALSCALE:GREGORIAN
BEGIN:VEVENT
UID:auremisjonshus.no-382
DTSTAMP:20260424T220922Z
DTSTART:20180528T090000Z
DTEND:20180528T103000Z
URL:https://www.auremisjonshus.no/kalender/2018/05/28/babysong/382/
CREATED:20180122T182836Z
LAST-MODIFIED:20180122T182836Z
SUMMARY:Babysong
DESCRIPTION:\n\nhttps://www.auremisjonshus.no/kalender/2018/05/28/babysong/382/
END:VEVENT

END:VCALENDAR