BEGIN:VCALENDAR
VERSION:2.0
PRODID:-//mWEB//NONSGML mWEB//NB
URL:https://www.auremisjonshus.no/kalender/ics
X-WR-CALNAME:Aure Misjonshus
REFRESH-INTERVAL;VALUE=DURATION:PT6H
X-PUBLISHED-TTL:PT6H    
CALSCALE:GREGORIAN
BEGIN:VEVENT
UID:auremisjonshus.no-374
DTSTAMP:20260424T222125Z
DTSTART:20180514T150000Z
DTEND:20180514T163000Z
URL:https://www.auremisjonshus.no/kalender/2018/05/14/songsprell/374/
CREATED:20180122T182520Z
LAST-MODIFIED:20180122T182520Z
SUMMARY:Songsprell
DESCRIPTION:\n\nhttps://www.auremisjonshus.no/kalender/2018/05/14/songsprell/374/
END:VEVENT

END:VCALENDAR