BEGIN:VCALENDAR
VERSION:2.0
PRODID:-//mWEB//NONSGML mWEB//NB
URL:https://www.auremisjonshus.no/kalender/ics
X-WR-CALNAME:Aure Misjonshus
REFRESH-INTERVAL;VALUE=DURATION:PT6H
X-PUBLISHED-TTL:PT6H    
CALSCALE:GREGORIAN
BEGIN:VEVENT
UID:auremisjonshus.no-400
DTSTAMP:20260424T222514Z
DTSTART:20180514T170000Z
DTEND:20180514T183000Z
URL:https://www.auremisjonshus.no/kalender/2018/05/14/leirdalen-mote-pa-elieser-baten/400/
CREATED:20180416T164159Z
LAST-MODIFIED:20180416T164159Z
SUMMARY:Leirdalen: møte på Elieser-båten
DESCRIPTION:\n\nhttps://www.auremisjonshus.no/kalender/2018/05/14/leirdalen-mote-pa-elieser-baten/400/
END:VEVENT

END:VCALENDAR