BEGIN:VCALENDAR
VERSION:2.0
PRODID:-//mWEB//NONSGML mWEB//NB
URL:https://www.auremisjonshus.no/kalender/ics
X-WR-CALNAME:Aure Misjonshus
REFRESH-INTERVAL;VALUE=DURATION:PT6H
X-PUBLISHED-TTL:PT6H    
CALSCALE:GREGORIAN
BEGIN:VEVENT
UID:auremisjonshus.no-337
DTSTAMP:20260424T222421Z
DTSTART:20180509T220000Z
DTEND:20180510T215900Z
URL:https://www.auremisjonshus.no/kalender/2018/05/10/utleige-konfirmasjonsselskap/337/
CREATED:20171114T111411Z
LAST-MODIFIED:20171114T111411Z
SUMMARY:Utleige: konfirmasjonsselskap
DESCRIPTION:\n\nhttps://www.auremisjonshus.no/kalender/2018/05/10/utleige-konfirmasjonsselskap/337/
X-MICROSOFT-CDO-ALLDAYEVENT:TRUE
END:VEVENT

END:VCALENDAR