BEGIN:VCALENDAR
VERSION:2.0
PRODID:-//mWEB//NONSGML mWEB//NB
URL:https://www.auremisjonshus.no/kalender/ics
X-WR-CALNAME:Aure Misjonshus
REFRESH-INTERVAL;VALUE=DURATION:PT6H
X-PUBLISHED-TTL:PT6H    
CALSCALE:GREGORIAN
BEGIN:VEVENT
UID:auremisjonshus.no-347
DTSTAMP:20260424T222032Z
DTSTART:20180501T220000Z
DTEND:20180502T215900Z
URL:https://www.auremisjonshus.no/kalender/2018/05/02/oving-aure-misjonskor/347/
CREATED:20171210T132212Z
LAST-MODIFIED:20171210T132212Z
SUMMARY:Øving Aure Misjonskor
DESCRIPTION:\n\nhttps://www.auremisjonshus.no/kalender/2018/05/02/oving-aure-misjonskor/347/
X-MICROSOFT-CDO-ALLDAYEVENT:TRUE
END:VEVENT

END:VCALENDAR