BEGIN:VCALENDAR
VERSION:2.0
PRODID:-//mWEB//NONSGML mWEB//NB
URL:https://www.auremisjonshus.no/kalender/ics
X-WR-CALNAME:Aure Misjonshus
REFRESH-INTERVAL;VALUE=DURATION:PT6H
X-PUBLISHED-TTL:PT6H    
CALSCALE:GREGORIAN
BEGIN:VEVENT
UID:auremisjonshus.no-367
DTSTAMP:20260425T001125Z
DTSTART:20180429T130000Z
DTEND:20180429T143000Z
URL:https://www.auremisjonshus.no/kalender/2018/04/29/skarsgrenda-bedehus-arsmote-nlm/367/
CREATED:20180110T131711Z
LAST-MODIFIED:20180110T131711Z
SUMMARY:Skarsgrenda bedehus: Årsmøte NLM
DESCRIPTION:\n\nhttps://www.auremisjonshus.no/kalender/2018/04/29/skarsgrenda-bedehus-arsmote-nlm/367/
END:VEVENT

END:VCALENDAR