BEGIN:VCALENDAR
VERSION:2.0
PRODID:-//mWEB//NONSGML mWEB//NB
URL:https://www.auremisjonshus.no/kalender/ics
X-WR-CALNAME:Aure Misjonshus
REFRESH-INTERVAL;VALUE=DURATION:PT6H
X-PUBLISHED-TTL:PT6H    
CALSCALE:GREGORIAN
BEGIN:VEVENT
UID:auremisjonshus.no-399
DTSTAMP:20260424T234441Z
DTSTART:20180424T153000Z
DTEND:20180424T170000Z
URL:https://www.auremisjonshus.no/kalender/2018/04/24/orneklubb/399/
CREATED:20180411T171401Z
LAST-MODIFIED:20180411T171401Z
SUMMARY:Ørneklubb
DESCRIPTION:\n\nhttps://www.auremisjonshus.no/kalender/2018/04/24/orneklubb/399/
END:VEVENT

END:VCALENDAR