BEGIN:VCALENDAR
VERSION:2.0
PRODID:-//mWEB//NONSGML mWEB//NB
URL:https://www.auremisjonshus.no/kalender/ics
X-WR-CALNAME:Aure Misjonshus
REFRESH-INTERVAL;VALUE=DURATION:PT6H
X-PUBLISHED-TTL:PT6H    
CALSCALE:GREGORIAN
BEGIN:VEVENT
UID:auremisjonshus.no-352
DTSTAMP:20260425T000838Z
DTSTART:20180415T140000Z
DTEND:20180415T153000Z
URL:https://www.auremisjonshus.no/kalender/2018/04/15/bibelhelg-sundagssamling-nlm/352/
CREATED:20171210T132502Z
LAST-MODIFIED:20180110T125344Z
SUMMARY:Bibelhelg: Sundagssamling NLM
DESCRIPTION:Misjonsmøte\n\nhttps://www.auremisjonshus.no/kalender/2018/04/15/bibelhelg-sundagssamling-nlm/352/
END:VEVENT

END:VCALENDAR