BEGIN:VCALENDAR
VERSION:2.0
PRODID:-//mWEB//NONSGML mWEB//NB
URL:https://www.auremisjonshus.no/kalender/ics
X-WR-CALNAME:Aure Misjonshus
REFRESH-INTERVAL;VALUE=DURATION:PT6H
X-PUBLISHED-TTL:PT6H    
CALSCALE:GREGORIAN
BEGIN:VEVENT
UID:auremisjonshus.no-332
DTSTAMP:20260425T000206Z
DTSTART:20180411T220000Z
DTEND:20180412T215900Z
URL:https://www.auremisjonshus.no/kalender/2018/04/12/eldres-hyggestund/332/
CREATED:20171114T104509Z
LAST-MODIFIED:20171114T104509Z
SUMMARY:Eldres hyggestund
DESCRIPTION:\n\nhttps://www.auremisjonshus.no/kalender/2018/04/12/eldres-hyggestund/332/
X-MICROSOFT-CDO-ALLDAYEVENT:TRUE
END:VEVENT

END:VCALENDAR