BEGIN:VCALENDAR
VERSION:2.0
PRODID:-//mWEB//NONSGML mWEB//NB
URL:https://www.auremisjonshus.no/kalender/ics
X-WR-CALNAME:Aure Misjonshus
REFRESH-INTERVAL;VALUE=DURATION:PT6H
X-PUBLISHED-TTL:PT6H    
CALSCALE:GREGORIAN
BEGIN:VEVENT
UID:auremisjonshus.no-346
DTSTAMP:20260424T235336Z
DTSTART:20180410T220000Z
DTEND:20180411T215900Z
URL:https://www.auremisjonshus.no/kalender/2018/04/11/oving-aure-misjonskor/346/
CREATED:20171210T132150Z
LAST-MODIFIED:20171210T132150Z
SUMMARY:Øving Aure Misjonskor
DESCRIPTION:\n\nhttps://www.auremisjonshus.no/kalender/2018/04/11/oving-aure-misjonskor/346/
X-MICROSOFT-CDO-ALLDAYEVENT:TRUE
END:VEVENT

END:VCALENDAR