BEGIN:VCALENDAR
VERSION:2.0
PRODID:-//mWEB//NONSGML mWEB//NB
URL:https://www.auremisjonshus.no/kalender/ics
X-WR-CALNAME:Aure Misjonshus
REFRESH-INTERVAL;VALUE=DURATION:PT6H
X-PUBLISHED-TTL:PT6H    
CALSCALE:GREGORIAN
BEGIN:VEVENT
UID:auremisjonshus.no-359
DTSTAMP:20260424T233846Z
DTSTART:20180403T133000Z
DTEND:20180403T150000Z
URL:https://www.auremisjonshus.no/kalender/2018/04/03/konfirmantundervisning/359/
CREATED:20180108T142123Z
LAST-MODIFIED:20180108T142123Z
SUMMARY:Konfirmantundervisning
DESCRIPTION:\n\nhttps://www.auremisjonshus.no/kalender/2018/04/03/konfirmantundervisning/359/
END:VEVENT

END:VCALENDAR